BEGIN:VCALENDAR
VERSION:2.0
PRODID:-//천주교 광저우 한인공동체 - ECPv6.14.2//NONSGML v1.0//EN
CALSCALE:GREGORIAN
METHOD:PUBLISH
X-WR-CALNAME:천주교 광저우 한인공동체
X-ORIGINAL-URL:https://gzkorcc.com
X-WR-CALDESC:천주교 광저우 한인공동체 이벤트
REFRESH-INTERVAL;VALUE=DURATION:PT1H
X-Robots-Tag:noindex
X-PUBLISHED-TTL:PT1H
BEGIN:VTIMEZONE
TZID:Asia/Shanghai
BEGIN:STANDARD
TZOFFSETFROM:+0800
TZOFFSETTO:+0800
TZNAME:CST
DTSTART:20260101T000000
END:STANDARD
END:VTIMEZONE
BEGIN:VEVENT
DTSTART;TZID=Asia/Shanghai:20260502T080000
DTEND;TZID=Asia/Shanghai:20260502T170000
DTSTAMP:20260420T222050
CREATED:20260305T083413Z
LAST-MODIFIED:20260305T083413Z
UID:10000058-1777708800-1777741200@gzkorcc.com
SUMMARY:부활 제5주일(생명 주일)
DESCRIPTION:5월 중 성모의 밤
URL:https://gzkorcc.com/calender/%eb%b6%80%ed%99%9c-%ec%a0%9c5%ec%a3%bc%ec%9d%bc%ec%83%9d%eb%aa%85-%ec%a3%bc%ec%9d%bc/
END:VEVENT
BEGIN:VEVENT
DTSTART;TZID=Asia/Shanghai:20260509T080000
DTEND;TZID=Asia/Shanghai:20260509T170000
DTSTAMP:20260420T222050
CREATED:20260306T004351Z
LAST-MODIFIED:20260306T004357Z
UID:10000062-1778313600-1778346000@gzkorcc.com
SUMMARY:부활 제6주일
DESCRIPTION:6주일 금요일부터 9일기도
URL:https://gzkorcc.com/calender/%eb%b6%80%ed%99%9c-%ec%a0%9c6%ec%a3%bc%ec%9d%bc/
END:VEVENT
BEGIN:VEVENT
DTSTART;TZID=Asia/Shanghai:20260516T080000
DTEND;TZID=Asia/Shanghai:20260516T170000
DTSTAMP:20260420T222050
CREATED:20260306T004428Z
LAST-MODIFIED:20260306T004438Z
UID:10000063-1778918400-1778950800@gzkorcc.com
SUMMARY:주님 승천 대축일(홍보 주일)
DESCRIPTION:
URL:https://gzkorcc.com/calender/%ec%a3%bc%eb%8b%98-%ec%8a%b9%ec%b2%9c-%eb%8c%80%ec%b6%95%ec%9d%bc%ed%99%8d%eb%b3%b4-%ec%a3%bc%ec%9d%bc/
END:VEVENT
BEGIN:VEVENT
DTSTART;TZID=Asia/Shanghai:20260523T080000
DTEND;TZID=Asia/Shanghai:20260523T170000
DTSTAMP:20260420T222050
CREATED:20260306T004530Z
LAST-MODIFIED:20260306T004530Z
UID:10000064-1779523200-1779555600@gzkorcc.com
SUMMARY:성령 강림 대축일
DESCRIPTION:성령 칠은 카드
URL:https://gzkorcc.com/calender/%ec%84%b1%eb%a0%b9-%ea%b0%95%eb%a6%bc-%eb%8c%80%ec%b6%95%ec%9d%bc/
END:VEVENT
BEGIN:VEVENT
DTSTART;TZID=Asia/Shanghai:20260530T080000
DTEND;TZID=Asia/Shanghai:20260530T170000
DTSTAMP:20260420T222050
CREATED:20260306T004616Z
LAST-MODIFIED:20260306T004616Z
UID:10000065-1780128000-1780160400@gzkorcc.com
SUMMARY:지극히 거룩하신 삼위일체 대축일(청소년 주일)
DESCRIPTION:
URL:https://gzkorcc.com/calender/%ec%a7%80%ea%b7%b9%ed%9e%88-%ea%b1%b0%eb%a3%a9%ed%95%98%ec%8b%a0-%ec%82%bc%ec%9c%84%ec%9d%bc%ec%b2%b4-%eb%8c%80%ec%b6%95%ec%9d%bc%ec%b2%ad%ec%86%8c%eb%85%84-%ec%a3%bc%ec%9d%bc/
END:VEVENT
END:VCALENDAR