BEGIN:VCALENDAR
VERSION:2.0
PRODID:-//천주교 광저우 한인공동체 - ECPv6.14.2//NONSGML v1.0//EN
CALSCALE:GREGORIAN
METHOD:PUBLISH
X-WR-CALNAME:천주교 광저우 한인공동체
X-ORIGINAL-URL:https://gzkorcc.com
X-WR-CALDESC:천주교 광저우 한인공동체 이벤트
REFRESH-INTERVAL;VALUE=DURATION:PT1H
X-Robots-Tag:noindex
X-PUBLISHED-TTL:PT1H
BEGIN:VTIMEZONE
TZID:Asia/Shanghai
BEGIN:STANDARD
TZOFFSETFROM:+0800
TZOFFSETTO:+0800
TZNAME:CST
DTSTART:20260101T000000
END:STANDARD
END:VTIMEZONE
BEGIN:VEVENT
DTSTART;TZID=Asia/Shanghai:20260307T080000
DTEND;TZID=Asia/Shanghai:20260307T170000
DTSTAMP:20260420T221244
CREATED:20260305T001610Z
LAST-MODIFIED:20260305T001617Z
UID:10000050-1772870400-1772902800@gzkorcc.com
SUMMARY:사순 제3주일
DESCRIPTION:
URL:https://gzkorcc.com/calender/%ec%82%ac%ec%88%9c-%ec%a0%9c3%ec%a3%bc%ec%9d%bc/
END:VEVENT
BEGIN:VEVENT
DTSTART;TZID=Asia/Shanghai:20260314T080000
DTEND;TZID=Asia/Shanghai:20260314T170000
DTSTAMP:20260420T221244
CREATED:20260305T001706Z
LAST-MODIFIED:20260305T001706Z
UID:10000051-1773475200-1773507600@gzkorcc.com
SUMMARY:사순 제4주일
DESCRIPTION:
URL:https://gzkorcc.com/calender/%ec%82%ac%ec%88%9c-%ec%a0%9c4%ec%a3%bc%ec%9d%bc/
END:VEVENT
BEGIN:VEVENT
DTSTART;TZID=Asia/Shanghai:20260319T080000
DTEND;TZID=Asia/Shanghai:20260319T170000
DTSTAMP:20260420T221244
CREATED:20260305T001836Z
LAST-MODIFIED:20260305T001836Z
UID:10000052-1773907200-1773939600@gzkorcc.com
SUMMARY:3/19 성 요셉 축일
DESCRIPTION:
URL:https://gzkorcc.com/calender/3-19-%ec%84%b1-%ec%9a%94%ec%85%89-%ec%b6%95%ec%9d%bc/
END:VEVENT
BEGIN:VEVENT
DTSTART;TZID=Asia/Shanghai:20260321T080000
DTEND;TZID=Asia/Shanghai:20260321T170000
DTSTAMP:20260420T221244
CREATED:20260305T001947Z
LAST-MODIFIED:20260305T001952Z
UID:10000053-1774080000-1774112400@gzkorcc.com
SUMMARY:사순 제5주일
DESCRIPTION:
URL:https://gzkorcc.com/calender/%ec%82%ac%ec%88%9c-%ec%a0%9c5%ec%a3%bc%ec%9d%bc/
END:VEVENT
BEGIN:VEVENT
DTSTART;TZID=Asia/Shanghai:20260322T170000
DTEND;TZID=Asia/Shanghai:20260322T200000
DTSTAMP:20260420T221244
CREATED:20260318T005509Z
LAST-MODIFIED:20260318T005602Z
UID:10000066-1774198800-1774209600@gzkorcc.com
SUMMARY:견진성사
DESCRIPTION:견진성사 일정\n17:00 견진교리(사무실)\n18:00 휴식\n18:30 견진 예식 연습(경당)\n19:00 미사 & 견진성사(경당)
URL:https://gzkorcc.com/calender/%ea%b2%ac%ec%a7%84%ec%84%b1%ec%82%ac/
END:VEVENT
BEGIN:VEVENT
DTSTART;TZID=Asia/Shanghai:20260328T080000
DTEND;TZID=Asia/Shanghai:20260328T170000
DTSTAMP:20260420T221244
CREATED:20260305T002037Z
LAST-MODIFIED:20260305T002255Z
UID:10000054-1774684800-1774717200@gzkorcc.com
SUMMARY:주님 수난 성지 주일
DESCRIPTION:
URL:https://gzkorcc.com/calender/%ec%a3%bc%eb%8b%98-%ec%88%98%eb%82%9c-%ec%84%b1%ec%a7%80-%ec%a3%bc%ec%9d%bc/
END:VEVENT
END:VCALENDAR