BEGIN:VCALENDAR
VERSION:2.0
PRODID:-//천주교 광저우 한인공동체 - ECPv6.14.2//NONSGML v1.0//EN
CALSCALE:GREGORIAN
METHOD:PUBLISH
X-ORIGINAL-URL:https://gzkorcc.com
X-WR-CALDESC:천주교 광저우 한인공동체 이벤트
REFRESH-INTERVAL;VALUE=DURATION:PT1H
X-Robots-Tag:noindex
X-PUBLISHED-TTL:PT1H
BEGIN:VTIMEZONE
TZID:Asia/Shanghai
BEGIN:STANDARD
TZOFFSETFROM:+0800
TZOFFSETTO:+0800
TZNAME:CST
DTSTART:20250101T000000
END:STANDARD
END:VTIMEZONE
BEGIN:VEVENT
DTSTART;TZID=Asia/Shanghai:20250815T080000
DTEND;TZID=Asia/Shanghai:20250815T170000
DTSTAMP:20260421T103047
CREATED:20250809T013940Z
LAST-MODIFIED:20250809T014205Z
UID:10000046-1755244800-1755277200@gzkorcc.com
SUMMARY:성모승천대축일 미사
DESCRIPTION:일시 : 8월 15일(금) 저녁 7시 30분\n장소 : 대강당\n※ 성모승천 대축일 미사에는 봉헌금을 준비해 주시기 바랍니다
URL:https://gzkorcc.com/calender/%ec%84%b1%eb%aa%a8%ec%8a%b9%ec%b2%9c%eb%8c%80%ec%b6%95%ec%9d%bc-%eb%af%b8%ec%82%ac/
END:VEVENT
END:VCALENDAR