BEGIN:VCALENDAR
VERSION:2.0
PRODID:-//천주교 광저우 한인공동체 - ECPv6.14.2//NONSGML v1.0//EN
CALSCALE:GREGORIAN
METHOD:PUBLISH
X-WR-CALNAME:천주교 광저우 한인공동체
X-ORIGINAL-URL:https://gzkorcc.com
X-WR-CALDESC:천주교 광저우 한인공동체 이벤트
REFRESH-INTERVAL;VALUE=DURATION:PT1H
X-Robots-Tag:noindex
X-PUBLISHED-TTL:PT1H
BEGIN:VTIMEZONE
TZID:Asia/Shanghai
BEGIN:STANDARD
TZOFFSETFROM:+0800
TZOFFSETTO:+0800
TZNAME:CST
DTSTART:20250101T000000
END:STANDARD
END:VTIMEZONE
BEGIN:VEVENT
DTSTART;VALUE=DATE:20250508
DTEND;VALUE=DATE:20250509
DTSTAMP:20260421T155340
CREATED:20241112T075313Z
LAST-MODIFIED:20241112T075313Z
UID:10000033-1746662400-1746748799@gzkorcc.com
SUMMARY:성모의 밤
DESCRIPTION:
URL:https://gzkorcc.com/calender/%ec%84%b1%eb%aa%a8%ec%9d%98-%eb%b0%a4/
END:VEVENT
BEGIN:VEVENT
DTSTART;VALUE=DATE:20250517
DTEND;VALUE=DATE:20250518
DTSTAMP:20260421T155340
CREATED:20241112T075425Z
LAST-MODIFIED:20241112T075425Z
UID:10000034-1747440000-1747526399@gzkorcc.com
SUMMARY:예비자 환영식
DESCRIPTION:
URL:https://gzkorcc.com/calender/%ec%98%88%eb%b9%84%ec%9e%90-%ed%99%98%ec%98%81%ec%8b%9d/
END:VEVENT
BEGIN:VEVENT
DTSTART;VALUE=DATE:20250524
DTEND;VALUE=DATE:20250526
DTSTAMP:20260421T155340
CREATED:20241112T075646Z
LAST-MODIFIED:20241112T075646Z
UID:10000035-1748044800-1748217599@gzkorcc.com
SUMMARY:주일학교 여름 신앙학교 (5월 24~25일)
DESCRIPTION:
URL:https://gzkorcc.com/calender/%ec%a3%bc%ec%9d%bc%ed%95%99%ea%b5%90-%ec%97%ac%eb%a6%84-%ec%8b%a0%ec%95%99%ed%95%99%ea%b5%90-5%ec%9b%94-2425%ec%9d%bc/
END:VEVENT
BEGIN:VEVENT
DTSTART;TZID=Asia/Shanghai:20250529T080000
DTEND;TZID=Asia/Shanghai:20250606T170000
DTSTAMP:20260421T155340
CREATED:20241112T075819Z
LAST-MODIFIED:20241112T075819Z
UID:10000036-1748505600-1749229200@gzkorcc.com
SUMMARY:성령 강림 9일 기도 (  ~6월 6일)
DESCRIPTION:
URL:https://gzkorcc.com/calender/%ec%84%b1%eb%a0%b9-%ea%b0%95%eb%a6%bc-9%ec%9d%bc-%ea%b8%b0%eb%8f%84-6%ec%9b%94-6%ec%9d%bc/
END:VEVENT
BEGIN:VEVENT
DTSTART;VALUE=DATE:20250531
DTEND;VALUE=DATE:20250601
DTSTAMP:20260421T155340
CREATED:20241112T080012Z
LAST-MODIFIED:20241112T080023Z
UID:10000037-1748649600-1748735999@gzkorcc.com
SUMMARY:가정 미사 주일
DESCRIPTION:
URL:https://gzkorcc.com/calender/%ea%b0%80%ec%a0%95-%eb%af%b8%ec%82%ac-%ec%a3%bc%ec%9d%bc-2/
END:VEVENT
END:VCALENDAR