BEGIN:VCALENDAR
VERSION:2.0
PRODID:-//천주교 광저우 한인공동체 - ECPv6.14.2//NONSGML v1.0//EN
CALSCALE:GREGORIAN
METHOD:PUBLISH
X-ORIGINAL-URL:https://gzkorcc.com
X-WR-CALDESC:천주교 광저우 한인공동체 이벤트
REFRESH-INTERVAL;VALUE=DURATION:PT1H
X-Robots-Tag:noindex
X-PUBLISHED-TTL:PT1H
BEGIN:VTIMEZONE
TZID:Asia/Shanghai
BEGIN:STANDARD
TZOFFSETFROM:+0800
TZOFFSETTO:+0800
TZNAME:CST
DTSTART:20250101T000000
END:STANDARD
END:VTIMEZONE
BEGIN:VEVENT
DTSTART;TZID=Asia/Shanghai:20250301T080000
DTEND;TZID=Asia/Shanghai:20250301T170000
DTSTAMP:20260421T191938
CREATED:20241112T072247Z
LAST-MODIFIED:20241112T072247Z
UID:10000019-1740816000-1740848400@gzkorcc.com
SUMMARY:성지가지 회수
DESCRIPTION:
URL:https://gzkorcc.com/calender/%ec%84%b1%ec%a7%80%ea%b0%80%ec%a7%80-%ed%9a%8c%ec%88%98/
END:VEVENT
BEGIN:VEVENT
DTSTART;TZID=Asia/Shanghai:20250305T080000
DTEND;TZID=Asia/Shanghai:20250305T170000
DTSTAMP:20260421T191938
CREATED:20241112T073142Z
LAST-MODIFIED:20241112T073142Z
UID:10000026-1741161600-1741194000@gzkorcc.com
SUMMARY:재의 수요일
DESCRIPTION:
URL:https://gzkorcc.com/calender/%ec%9e%ac%ec%9d%98-%ec%88%98%ec%9a%94%ec%9d%bc-2/
END:VEVENT
BEGIN:VEVENT
DTSTART;TZID=Asia/Shanghai:20250306T080000
DTEND;TZID=Asia/Shanghai:20250306T170000
DTSTAMP:20260421T191938
CREATED:20241112T072335Z
LAST-MODIFIED:20241112T072440Z
UID:10000020-1741248000-1741280400@gzkorcc.com
SUMMARY:월간 사목 회의
DESCRIPTION:
URL:https://gzkorcc.com/calender/%ec%9e%ac%ec%9d%98-%ec%88%98%ec%9a%94%ec%9d%bc/
END:VEVENT
BEGIN:VEVENT
DTSTART;TZID=Asia/Shanghai:20250308T080000
DTEND;TZID=Asia/Shanghai:20250308T170000
DTSTAMP:20260421T191938
CREATED:20241112T072523Z
LAST-MODIFIED:20241112T072537Z
UID:10000021-1741420800-1741453200@gzkorcc.com
SUMMARY:주일학교 봄학기 개학식
DESCRIPTION:
URL:https://gzkorcc.com/calender/%ec%a3%bc%ec%9d%bc%ed%95%99%ea%b5%90-%eb%b4%84%ed%95%99%ea%b8%b0-%ea%b0%9c%ed%95%99%ec%8b%9d/
END:VEVENT
BEGIN:VEVENT
DTSTART;TZID=Asia/Shanghai:20250315T080000
DTEND;TZID=Asia/Shanghai:20250315T170000
DTSTAMP:20260421T191938
CREATED:20241112T072634Z
LAST-MODIFIED:20241112T072644Z
UID:10000022-1742025600-1742058000@gzkorcc.com
SUMMARY:아버지의 날  / 예비자 (냉담자) 봉헌식
DESCRIPTION:
URL:https://gzkorcc.com/calender/%ec%95%84%eb%b2%84%ec%a7%80%ec%9d%98-%eb%82%a0-%ec%98%88%eb%b9%84%ec%9e%90-%eb%83%89%eb%8b%b4%ec%9e%90-%eb%b4%89%ed%97%8c%ec%8b%9d/
END:VEVENT
BEGIN:VEVENT
DTSTART;TZID=Asia/Shanghai:20250321T080000
DTEND;TZID=Asia/Shanghai:20250321T170000
DTSTAMP:20260421T191938
CREATED:20241112T072731Z
LAST-MODIFIED:20241112T072740Z
UID:10000023-1742544000-1742576400@gzkorcc.com
SUMMARY:꾸리아 아치에스 행사
DESCRIPTION:
URL:https://gzkorcc.com/calender/%ea%be%b8%eb%a6%ac%ec%95%84-%ec%95%84%ec%b9%98%ec%97%90%ec%8a%a4-%ed%96%89%ec%82%ac/
END:VEVENT
BEGIN:VEVENT
DTSTART;TZID=Asia/Shanghai:20250322T080000
DTEND;TZID=Asia/Shanghai:20250322T170000
DTSTAMP:20260421T191938
CREATED:20241112T072830Z
LAST-MODIFIED:20241112T072830Z
UID:10000024-1742630400-1742662800@gzkorcc.com
SUMMARY:어린이 미사
DESCRIPTION:
URL:https://gzkorcc.com/calender/%ec%96%b4%eb%a6%b0%ec%9d%b4-%eb%af%b8%ec%82%ac/
END:VEVENT
BEGIN:VEVENT
DTSTART;TZID=Asia/Shanghai:20250329T080000
DTEND;TZID=Asia/Shanghai:20250329T170000
DTSTAMP:20260421T191938
CREATED:20241112T072930Z
LAST-MODIFIED:20241112T072930Z
UID:10000025-1743235200-1743267600@gzkorcc.com
SUMMARY:가정 미사 주일
DESCRIPTION:
URL:https://gzkorcc.com/calender/%ea%b0%80%ec%a0%95-%eb%af%b8%ec%82%ac-%ec%a3%bc%ec%9d%bc/
END:VEVENT
END:VCALENDAR