BEGIN:VCALENDAR
VERSION:2.0
PRODID:-//천주교 광저우 한인공동체 - ECPv6.14.2//NONSGML v1.0//EN
CALSCALE:GREGORIAN
METHOD:PUBLISH
X-ORIGINAL-URL:https://gzkorcc.com
X-WR-CALDESC:천주교 광저우 한인공동체 이벤트
REFRESH-INTERVAL;VALUE=DURATION:PT1H
X-Robots-Tag:noindex
X-PUBLISHED-TTL:PT1H
BEGIN:VTIMEZONE
TZID:Asia/Shanghai
BEGIN:STANDARD
TZOFFSETFROM:+0800
TZOFFSETTO:+0800
TZNAME:CST
DTSTART:20240101T000000
END:STANDARD
END:VTIMEZONE
BEGIN:VEVENT
DTSTART;VALUE=DATE:20241109
DTEND;VALUE=DATE:20241110
DTSTAMP:20260422T020333
CREATED:20241112T081305Z
LAST-MODIFIED:20241112T081305Z
UID:10000038-1731110400-1731196799@gzkorcc.com
SUMMARY:성인 복사단 교육
DESCRIPTION:
URL:https://gzkorcc.com/calender/%ec%84%b1%ec%9d%b8-%eb%b3%b5%ec%82%ac%eb%8b%a8-%ea%b5%90%ec%9c%a1/
END:VEVENT
BEGIN:VEVENT
DTSTART;TZID=Asia/Shanghai:20241114T080000
DTEND;TZID=Asia/Shanghai:20241114T170000
DTSTAMP:20260422T020333
CREATED:20241111T015659Z
LAST-MODIFIED:20241111T015718Z
UID:10000011-1731571200-1731603600@gzkorcc.com
SUMMARY:3구역 2반 반모임
DESCRIPTION:3구역 2반11월 14일(목) 오후3시\n차준연 안드레아 형제님 사무실
URL:https://gzkorcc.com/calender/3%ea%b5%ac%ec%97%ad-2%eb%b0%98-%eb%b0%98%eb%aa%a8%ec%9e%84/
END:VEVENT
BEGIN:VEVENT
DTSTART;TZID=Asia/Shanghai:20241115T080000
DTEND;TZID=Asia/Shanghai:20241115T170000
DTSTAMP:20260422T020333
CREATED:20241111T015914Z
LAST-MODIFIED:20241111T020105Z
UID:10000012-1731657600-1731690000@gzkorcc.com
SUMMARY:3구역 3반 반모임
DESCRIPTION:3구역 3반11월 15일(금) 저녁 7시\n유희종 루도비코\, 김정애 엘리사벳 가정
URL:https://gzkorcc.com/calender/3%ea%b5%ac%ec%97%ad-3%eb%b0%98-%eb%b0%98%eb%aa%a8%ec%9e%84/
END:VEVENT
BEGIN:VEVENT
DTSTART;TZID=Asia/Shanghai:20241117T163000
DTEND;TZID=Asia/Shanghai:20241117T190000
DTSTAMP:20260422T020333
CREATED:20241113T094953Z
LAST-MODIFIED:20241113T094953Z
UID:10000039-1731861000-1731870000@gzkorcc.com
SUMMARY:3-1반 11월 반모임
DESCRIPTION:3-1반 11월 반모임 일정\n일시: 11월 17일(일) 저녁 4시반\n장소 : 진혜영 루시아 가정
URL:https://gzkorcc.com/calender/3-1%eb%b0%98-11%ec%9b%94-%eb%b0%98%eb%aa%a8%ec%9e%84/
END:VEVENT
BEGIN:VEVENT
DTSTART;VALUE=DATE:20241119
DTEND;VALUE=DATE:20241120
DTSTAMP:20260422T020333
CREATED:20241115T041933Z
LAST-MODIFIED:20241115T041933Z
UID:10000042-1731974400-1732060799@gzkorcc.com
SUMMARY:2구역 2반 반모임
DESCRIPTION:11월 19일(화) 오전 10시\n‘휴’ (和御御公馆1504호)
URL:https://gzkorcc.com/calender/2%ea%b5%ac%ec%97%ad-2%eb%b0%98-%eb%b0%98%eb%aa%a8%ec%9e%84/
END:VEVENT
BEGIN:VEVENT
DTSTART;VALUE=DATE:20241121
DTEND;VALUE=DATE:20241122
DTSTAMP:20260422T020333
CREATED:20241115T041832Z
LAST-MODIFIED:20241115T041832Z
UID:10000041-1732147200-1732233599@gzkorcc.com
SUMMARY:2구역 1반 구역모임
DESCRIPTION:11월 21일(목) 오전 11시 30\n潮发潮汕牛肉店
URL:https://gzkorcc.com/calender/2%ea%b5%ac%ec%97%ad-1%eb%b0%98-%ea%b5%ac%ec%97%ad%eb%aa%a8%ec%9e%84/
END:VEVENT
BEGIN:VEVENT
DTSTART;VALUE=DATE:20241123
DTEND;VALUE=DATE:20241124
DTSTAMP:20260422T020333
CREATED:20241111T014328Z
LAST-MODIFIED:20241115T042442Z
UID:10000005-1732320000-1732406399@gzkorcc.com
SUMMARY:첫영성체 예식
DESCRIPTION:김명한 시몬 (2구역 1반)\n배주원 라파엘 (2구역 2반)\n신여울 스텔라 (2구역 2반)\n윤봄 소피아 (2구역 1반)\n최유진 아나스타시아( 3구역 2반)
URL:https://gzkorcc.com/calender/%ec%b2%ab%ec%98%81%ec%84%b1%ec%b2%b4-%ec%98%88%ec%8b%9d/
END:VEVENT
BEGIN:VEVENT
DTSTART;VALUE=DATE:20241123
DTEND;VALUE=DATE:20241124
DTSTAMP:20260422T020333
CREATED:20241115T041728Z
LAST-MODIFIED:20241115T041728Z
UID:10000040-1732320000-1732406399@gzkorcc.com
SUMMARY:1구역 반모임
DESCRIPTION:11월 23일(토) 미사 후\n상공회 사무실
URL:https://gzkorcc.com/calender/1%ea%b5%ac%ec%97%ad-%eb%b0%98%eb%aa%a8%ec%9e%84/
END:VEVENT
BEGIN:VEVENT
DTSTART;TZID=Asia/Shanghai:20241130T080000
DTEND;TZID=Asia/Shanghai:20241130T170000
DTSTAMP:20260422T020333
CREATED:20241111T014559Z
LAST-MODIFIED:20241111T014736Z
UID:10000006-1732953600-1732986000@gzkorcc.com
SUMMARY:대림특강
DESCRIPTION:
URL:https://gzkorcc.com/calender/%eb%8c%80%eb%a6%bc%ed%8a%b9%ea%b0%95/
END:VEVENT
BEGIN:VEVENT
DTSTART;TZID=Asia/Shanghai:20241130T080000
DTEND;TZID=Asia/Shanghai:20241201T170000
DTSTAMP:20260422T020333
CREATED:20241111T014832Z
LAST-MODIFIED:20241112T060156Z
UID:10000007-1732953600-1733072400@gzkorcc.com
SUMMARY:청소년 피정
DESCRIPTION:? 청소년부 피정 안내 ? \n“내가 잔칫상을 이미 차렸소.\n어서 잔치에 오시오.”(마태22\,4) \n청소년기는 자신의 삶에 대한 고민이 시작되는 시기이지요.\n이 시기의 아이들에게 신앙 생활은 ‘선택’의 문제가 되곤합니다.\n일상을 떠나 \n지금 나의 신앙 생활을 점검해보고\, 앞으로 어떻게 신앙 생활을 할 지 생각해 볼 수 있는 시간을 마련하였습니다.\n의미 있고 소중한 이 자리에 청소년 모두를 초대합니다! \n?피정 담당 사제 \n이준영 리노\n(대구교구청소년사목차장) \n김태완 안드레아(대구청소년창의센터장) \n?장 소\n중산(迪茵湖湖畔度假小木屋)\n?️피정 일시\n11월 30일(토)~12월 1일(일) \n? 대상 연령 : 초6~고3\n본인이 세례를 받지 않았어도 부모님 중 한 분 만이라도 세례를 받았다면 신청가능합니다. \n? 신청 비용 : 400元\n? 신청 마감 : ~ 11월 23일 \n??‍?문의 :청소년 피정청소년 피정\n교장 진혜영 루시아\n139-2227-4294
URL:https://gzkorcc.com/calender/%ec%b2%ad%ec%86%8c%eb%85%84-%ed%94%bc%ec%a0%95/
END:VEVENT
END:VCALENDAR